BEGIN:VCALENDAR
VERSION:2.0
PRODID:-//RESCMO - ECPv6.13.2.1//NONSGML v1.0//EN
CALSCALE:GREGORIAN
METHOD:PUBLISH
X-ORIGINAL-URL:https://rescmo.org
X-WR-CALDESC:Events for RESCMO
REFRESH-INTERVAL;VALUE=DURATION:PT1H
X-Robots-Tag:noindex
X-PUBLISHED-TTL:PT1H
BEGIN:VTIMEZONE
TZID:UTC
BEGIN:STANDARD
TZOFFSETFROM:+0000
TZOFFSETTO:+0000
TZNAME:UTC
DTSTART:20220101T000000
END:STANDARD
END:VTIMEZONE
BEGIN:VEVENT
DTSTART;TZID=UTC:20220712T080000
DTEND;TZID=UTC:20220712T170000
DTSTAMP:20260423T184821
CREATED:20220710T120525Z
LAST-MODIFIED:20220710T120532Z
UID:56-1657612800-1657645200@rescmo.org
SUMMARY:webinar
DESCRIPTION:webinar event will organize for renewable energy resources and technical tools information.
URL:https://rescmo.org/event/webinar/
LOCATION:Newpark Tech\, B-123 Greater Noida\, Noida\, Uttar Pradesh\, 210301\, India
CATEGORIES:Webinar
ATTACH;FMTTYPE=image/webp:https://rescmo.org/wp-content/uploads/2022/07/events.webp
ORGANIZER;CN="Rescmo":MAILTO:admin@rescmo.com
END:VEVENT
END:VCALENDAR